BEGIN:VCALENDAR
VERSION:2.0
PRODID:-//Coram Deo Baptist Church - ECPv6.15.15//NONSGML v1.0//EN
CALSCALE:GREGORIAN
METHOD:PUBLISH
X-WR-CALNAME:Coram Deo Baptist Church
X-ORIGINAL-URL:https://coramdeobaptist.louderstaging.com
X-WR-CALDESC:Events for Coram Deo Baptist Church
REFRESH-INTERVAL;VALUE=DURATION:PT1H
X-Robots-Tag:noindex
X-PUBLISHED-TTL:PT1H
BEGIN:VTIMEZONE
TZID:America/Kentucky/Louisville
BEGIN:DAYLIGHT
TZOFFSETFROM:-0500
TZOFFSETTO:-0400
TZNAME:EDT
DTSTART:20250309T070000
END:DAYLIGHT
BEGIN:STANDARD
TZOFFSETFROM:-0400
TZOFFSETTO:-0500
TZNAME:EST
DTSTART:20251102T060000
END:STANDARD
BEGIN:DAYLIGHT
TZOFFSETFROM:-0500
TZOFFSETTO:-0400
TZNAME:EDT
DTSTART:20260308T070000
END:DAYLIGHT
BEGIN:STANDARD
TZOFFSETFROM:-0400
TZOFFSETTO:-0500
TZNAME:EST
DTSTART:20261101T060000
END:STANDARD
BEGIN:DAYLIGHT
TZOFFSETFROM:-0500
TZOFFSETTO:-0400
TZNAME:EDT
DTSTART:20270314T070000
END:DAYLIGHT
BEGIN:STANDARD
TZOFFSETFROM:-0400
TZOFFSETTO:-0500
TZNAME:EST
DTSTART:20271107T060000
END:STANDARD
END:VTIMEZONE
BEGIN:VEVENT
DTSTART;TZID=America/Kentucky/Louisville:20260416T080000
DTEND;TZID=America/Kentucky/Louisville:20260416T170000
DTSTAMP:20260420T173115
CREATED:20251204T030437Z
LAST-MODIFIED:20251204T030919Z
UID:10000001-1776326400-1776358800@coramdeobaptist.louderstaging.com
SUMMARY:Spring Community Outreach Day
DESCRIPTION:https://coramdeobaptist.com/Join us for a day of service\, fellowship\, and community outreach as we gather to bless our neighborhood and share Christ’s love. Volunteers will help with yard work\, minor home repairs for elderly residents\, and delivering pantry staples to families in need. \nAfter the morning outreach\, everyone will meet in the Fellowship Hall for a shared lunch\, devotion\, and a time of prayer and reflection.
URL:https://coramdeobaptist.louderstaging.com/events/spring-community-outreach-day/
LOCATION:Willow Spring High School\, 1704 Old Honeycutt Rd\, Fuquay-Varina\, NC\, 27526\, United States
CATEGORIES:Outreach
ATTACH;FMTTYPE=image/jpeg:https://coramdeobaptist.louderstaging.com/wp-content/uploads/2024/07/l5v44ufjvye.jpg
ORGANIZER;CN="Rebecca Langford":MAILTO:rebecca.langford@coramdeobaptist.com
END:VEVENT
END:VCALENDAR